BEGIN:VCALENDAR
VERSION:2.0
PRODID:-//Lydian Care - ECPv6.15.4//NONSGML v1.0//EN
CALSCALE:GREGORIAN
METHOD:PUBLISH
X-WR-CALNAME:Lydian Care
X-ORIGINAL-URL:https://lydiancare.com
X-WR-CALDESC:Events for Lydian Care
REFRESH-INTERVAL;VALUE=DURATION:PT1H
X-Robots-Tag:noindex
X-PUBLISHED-TTL:PT1H
BEGIN:VTIMEZONE
TZID:Europe/London
BEGIN:DAYLIGHT
TZOFFSETFROM:+0000
TZOFFSETTO:+0100
TZNAME:BST
DTSTART:20230326T010000
END:DAYLIGHT
BEGIN:STANDARD
TZOFFSETFROM:+0100
TZOFFSETTO:+0000
TZNAME:GMT
DTSTART:20231029T010000
END:STANDARD
END:VTIMEZONE
BEGIN:VEVENT
DTSTART;TZID=Europe/London:20230127T090000
DTEND;TZID=Europe/London:20230127T170000
DTSTAMP:20260422T023245
CREATED:20230116T122844Z
LAST-MODIFIED:20230116T122844Z
UID:10000003-1674810000-1674838800@lydiancare.com
SUMMARY:SAFE2CARE Training
DESCRIPTION:
URL:https://lydiancare.com/event/safe2care-training/
LOCATION:Lydian HQ\, 23 Main street\, Newcastle\, BT367YA\, United Kingdom
ATTACH;FMTTYPE=:
ORGANIZER;CN="Lydian Care":MAILTO:recruitment@lydiancare.com
END:VEVENT
END:VCALENDAR