BEGIN:VCALENDAR
VERSION:2.0
PRODID:-//Lydian Care - ECPv6.15.4//NONSGML v1.0//EN
CALSCALE:GREGORIAN
METHOD:PUBLISH
X-WR-CALNAME:Lydian Care
X-ORIGINAL-URL:https://lydiancare.com
X-WR-CALDESC:Events for Lydian Care
REFRESH-INTERVAL;VALUE=DURATION:PT1H
X-Robots-Tag:noindex
X-PUBLISHED-TTL:PT1H
BEGIN:VTIMEZONE
TZID:Europe/London
BEGIN:DAYLIGHT
TZOFFSETFROM:+0000
TZOFFSETTO:+0100
TZNAME:BST
DTSTART:20240331T010000
END:DAYLIGHT
BEGIN:STANDARD
TZOFFSETFROM:+0100
TZOFFSETTO:+0000
TZNAME:GMT
DTSTART:20241027T010000
END:STANDARD
END:VTIMEZONE
BEGIN:VEVENT
DTSTART;TZID=Europe/London:20240409T093000
DTEND;TZID=Europe/London:20240409T123000
DTSTAMP:20260421T042018
CREATED:20240311T133658Z
LAST-MODIFIED:20240311T133658Z
UID:10000036-1712655000-1712665800@lydiancare.com
SUMMARY:Staff Update Moving & Handling Training AM Session
DESCRIPTION:Existing staff update training for moving and handling taken by Down Training & Development in partnership with Lydian Care. \nPlease register below.
URL:https://lydiancare.com/event/staff-update-moving-handling-training-am-session-2/
LOCATION:Seaforde YFC (Young Farmers Club)\, 205 Newcastle Road\, Seaforde\, Downpatrick\, Down\, BT30 8NU\, United Kingdom
ATTACH;FMTTYPE=:
ORGANIZER;CN="Lydian Care":MAILTO:recruitment@lydiancare.com
END:VEVENT
BEGIN:VEVENT
DTSTART;TZID=Europe/London:20240409T130000
DTEND;TZID=Europe/London:20240409T160000
DTSTAMP:20260421T042018
CREATED:20240311T133817Z
LAST-MODIFIED:20240311T133817Z
UID:10000037-1712667600-1712678400@lydiancare.com
SUMMARY:Staff Update Moving & Handling Training PM Session
DESCRIPTION:Existing staff update training for moving and handling taken by Down Training & Development in partnership with Lydian Care. \nPlease register below.
URL:https://lydiancare.com/event/staff-update-moving-handling-training-pm-session-2/
LOCATION:Seaforde YFC (Young Farmers Club)\, 205 Newcastle Road\, Seaforde\, Downpatrick\, Down\, BT30 8NU\, United Kingdom
ATTACH;FMTTYPE=:
ORGANIZER;CN="Lydian Care":MAILTO:recruitment@lydiancare.com
END:VEVENT
BEGIN:VEVENT
DTSTART;TZID=Europe/London:20240423T093000
DTEND;TZID=Europe/London:20240423T123000
DTSTAMP:20260421T042018
CREATED:20240306T122148Z
LAST-MODIFIED:20240306T122148Z
UID:10000028-1713864600-1713875400@lydiancare.com
SUMMARY:New Registrant Training Moving & Handling
DESCRIPTION:New registrant training for moving and handling taken by Down Training & Development in partnership with Lydian Care. \nExisting Lydian Staff can also attend if interested or wish to update training. \nPlease register below.
URL:https://lydiancare.com/event/new-registrant-training-moving-handling-7/
LOCATION:Seaforde YFC (Young Farmers Club)\, 205 Newcastle Road\, Seaforde\, Downpatrick\, Down\, BT30 8NU\, United Kingdom
ATTACH;FMTTYPE=:
ORGANIZER;CN="Lydian Care":MAILTO:recruitment@lydiancare.com
END:VEVENT
BEGIN:VEVENT
DTSTART;TZID=Europe/London:20240423T130000
DTEND;TZID=Europe/London:20240423T160000
DTSTAMP:20260421T042018
CREATED:20240306T125459Z
LAST-MODIFIED:20240306T125459Z
UID:10000029-1713877200-1713888000@lydiancare.com
SUMMARY:New Registrant Training Basic Life Support
DESCRIPTION:New registrant training for basic life support taken by Down Training & Development in partnership with Lydian Care. \nExisting Lydian staff can also register if wish to attend or update. \nPlease register below.
URL:https://lydiancare.com/event/new-registrant-training-basic-life-support-7/
LOCATION:Seaforde YFC (Young Farmers Club)\, 205 Newcastle Road\, Seaforde\, Downpatrick\, Down\, BT30 8NU\, United Kingdom
ATTACH;FMTTYPE=:
ORGANIZER;CN="Lydian Care":MAILTO:recruitment@lydiancare.com
END:VEVENT
END:VCALENDAR