BEGIN:VCALENDAR
VERSION:2.0
PRODID:-//Lydian Care - ECPv6.15.4//NONSGML v1.0//EN
CALSCALE:GREGORIAN
METHOD:PUBLISH
X-WR-CALNAME:Lydian Care
X-ORIGINAL-URL:https://lydiancare.com
X-WR-CALDESC:Events for Lydian Care
REFRESH-INTERVAL;VALUE=DURATION:PT1H
X-Robots-Tag:noindex
X-PUBLISHED-TTL:PT1H
BEGIN:VTIMEZONE
TZID:Europe/London
BEGIN:DAYLIGHT
TZOFFSETFROM:+0000
TZOFFSETTO:+0100
TZNAME:BST
DTSTART:20230326T010000
END:DAYLIGHT
BEGIN:STANDARD
TZOFFSETFROM:+0100
TZOFFSETTO:+0000
TZNAME:GMT
DTSTART:20231029T010000
END:STANDARD
END:VTIMEZONE
BEGIN:VEVENT
DTSTART;TZID=Europe/London:20231011T093000
DTEND;TZID=Europe/London:20231011T123000
DTSTAMP:20260421T142157
CREATED:20230815T114846Z
LAST-MODIFIED:20230815T114846Z
UID:10000015-1697016600-1697027400@lydiancare.com
SUMMARY:Staff Update Moving & Handling Training
DESCRIPTION:Existing staff update training for moving and handling taken by Down Training & Development in partnership with Lydian Care. \nPlease register below.
URL:https://lydiancare.com/event/staff-update-moving-handling-training/
LOCATION:Seaforde YFC (Young Farmers Club)\, 205 Newcastle Road\, Seaforde\, Downpatrick\, Down\, BT30 8NU\, United Kingdom
ATTACH;FMTTYPE=:
ORGANIZER;CN="Lydian Care":MAILTO:recruitment@lydiancare.com
END:VEVENT
BEGIN:VEVENT
DTSTART;TZID=Europe/London:20231011T130000
DTEND;TZID=Europe/London:20231011T160000
DTSTAMP:20260421T142157
CREATED:20230815T114959Z
LAST-MODIFIED:20230815T114959Z
UID:10000016-1697029200-1697040000@lydiancare.com
SUMMARY:Staff Update Moving & Handling Training
DESCRIPTION:Existing staff update training for moving and handling taken by Down Training & Development in partnership with Lydian Care. \nPlease register below.
URL:https://lydiancare.com/event/staff-update-moving-handling-training-2/
LOCATION:Seaforde YFC (Young Farmers Club)\, 205 Newcastle Road\, Seaforde\, Downpatrick\, Down\, BT30 8NU\, United Kingdom
ATTACH;FMTTYPE=:
ORGANIZER;CN="Lydian Care":MAILTO:recruitment@lydiancare.com
END:VEVENT
BEGIN:VEVENT
DTSTART;TZID=Europe/London:20231019T093000
DTEND;TZID=Europe/London:20231019T123000
DTSTAMP:20260421T142157
CREATED:20230815T114229Z
LAST-MODIFIED:20231006T134139Z
UID:10000013-1697707800-1697718600@lydiancare.com
SUMMARY:New Registrant Training Moving & Handling
DESCRIPTION:New registrant training for moving and handling taken by Down Training & Development in partnership with Lydian Care. \nPlease register below.
URL:https://lydiancare.com/event/new-registrant-training-moving-handling/
LOCATION:Seaforde YFC (Young Farmers Club)\, 205 Newcastle Road\, Seaforde\, Downpatrick\, Down\, BT30 8NU\, United Kingdom
ATTACH;FMTTYPE=:
ORGANIZER;CN="Lydian Care":MAILTO:recruitment@lydiancare.com
END:VEVENT
BEGIN:VEVENT
DTSTART;TZID=Europe/London:20231019T130000
DTEND;TZID=Europe/London:20231019T160000
DTSTAMP:20260421T142157
CREATED:20230815T114646Z
LAST-MODIFIED:20231006T134038Z
UID:10000014-1697720400-1697731200@lydiancare.com
SUMMARY:New Registrant Training Basic Life Support
DESCRIPTION:New registrant training for basic life support taken by Down Training & Development in partnership with Lydian Care. \nPlease register below.
URL:https://lydiancare.com/event/new-registrant-training-basic-life-support/
LOCATION:Seaforde YFC (Young Farmers Club)\, 205 Newcastle Road\, Seaforde\, Downpatrick\, Down\, BT30 8NU\, United Kingdom
ATTACH;FMTTYPE=:
ORGANIZER;CN="Lydian Care":MAILTO:recruitment@lydiancare.com
END:VEVENT
END:VCALENDAR